BEGIN:VCALENDAR
VERSION:2.0
PRODID:-//ChamberMaster//Event Calendar 2.0//EN
METHOD:PUBLISH
X-PUBLISHED-TTL:P1H
REFRESH-INTERVAL:P1H
CALSCALE:GREGORIAN
BEGIN:VTIMEZONE
TZID:America/New_York
BEGIN:DAYLIGHT
RRULE:FREQ=YEARLY;BYMONTH=3;BYDAY=2SU
DTSTART:20070101T000000
TZOFFSETFROM:-0500
TZOFFSETTO:-0400
TZNAME:Eastern Daylight Time
END:DAYLIGHT
BEGIN:STANDARD
RRULE:FREQ=YEARLY;BYMONTH=11;BYDAY=1SU
DTSTART:20070101T000000
TZOFFSETFROM:-0400
TZOFFSETTO:-0500
TZNAME:Eastern Standard Time
END:STANDARD
END:VTIMEZONE
BEGIN:VEVENT
DTSTART;VALUE=DATE:20261106
DTEND;VALUE=DATE:20261117
TRANSP:TRANSPARENT
X-MICROSOFT-CDO-ALLDAYEVENT:TRUE
SUMMARY:Los Angeles Chocolate Week 2026
DESCRIPTION:Participate in Los Angeles Chocolate Week 2026 (April 17–26) and reach a vibrant West Coast audience passionate about artisan flavor\, health-conscious indulgence\, and small-batch craft. FCIA Members receive an exclusive 30% off Exhibitor Registration\, available first come. From influencers to food-loving locals\, LA offers outstanding exposure for emerging and established chocolate brands.\n\nLogin to the FCIA website and click on the Discounts page on the left-hand side of the Info Hub for details and to register.
X-ALT-DESC;FMTTYPE=text/html:Participate in Los Angeles Chocolate Week 2026 (April 17–26) and reach a vibrant West Coast audience passionate about artisan flavor\, health-conscious indulgence\, and small-batch craft. FCIA Members receive an exclusive 30% off Exhibitor Registration\, available first come. From influencers to food-loving locals\, LA offers outstanding exposure for emerging and established chocolate brands.\n\nLogin to the FCIA website and click on the Discounts page on the left-hand side of the Info Hub for details and to register.
LOCATION:Los Angeles CA
UID:e.4504.1346753
SEQUENCE:3
DTSTAMP:20260425T201823Z
URL:https://finechocolateindustryassociationfcia.growthzoneapp.com/events/Details/los-angeles-chocolate-week-2026-1583581?sourceTypeId=Hub
END:VEVENT
END:VCALENDAR
