BEGIN:VCALENDAR
VERSION:2.0
PRODID:-//ChamberMaster//Event Calendar 2.0//EN
METHOD:PUBLISH
X-PUBLISHED-TTL:P1H
REFRESH-INTERVAL:P1H
CALSCALE:GREGORIAN
BEGIN:VTIMEZONE
TZID:America/New_York
BEGIN:DAYLIGHT
RRULE:FREQ=YEARLY;BYMONTH=3;BYDAY=2SU
DTSTART:20070101T000000
TZOFFSETFROM:-0500
TZOFFSETTO:-0400
TZNAME:Eastern Daylight Time
END:DAYLIGHT
BEGIN:STANDARD
RRULE:FREQ=YEARLY;BYMONTH=11;BYDAY=1SU
DTSTART:20070101T000000
TZOFFSETFROM:-0400
TZOFFSETTO:-0500
TZNAME:Eastern Standard Time
END:STANDARD
END:VTIMEZONE
BEGIN:VEVENT
DTSTART;VALUE=DATE:20260918
DTEND;VALUE=DATE:20260928
TRANSP:TRANSPARENT
X-MICROSOFT-CDO-ALLDAYEVENT:TRUE
SUMMARY:New York Chocolate Week 2026
DESCRIPTION:Join New York Chocolate Week 2026 (April 17–26) and put your brand in front of the nation’s largest and most influential consumer market. FCIA Members receive 30% off Exhibitor Registration on a first-come basis. NYC audiences love premium chocolate\, media coverage is strong\, and participating makers often enjoy significant brand visibility.\n\nFCIA Members who wish to participate as an exhibitor get 30% off Exhibitor Registration. Login to the FCIA website and click on the Discounts page on the left-hand side of the Info Hub for details and to register.
X-ALT-DESC;FMTTYPE=text/html:Join New York Chocolate Week 2026 (April 17–26) and put your brand in front of the nation’s largest and most influential consumer market. FCIA Members receive 30% off Exhibitor Registration on a first-come basis. NYC audiences love premium chocolate\, media coverage is strong\, and participating makers often enjoy significant brand visibility.\n\nFCIA Members who wish to participate as an exhibitor get 30% off Exhibitor Registration. Login to the FCIA website and click on the Discounts page on the left-hand side of the Info Hub for details and to register.
LOCATION:New York NY
UID:e.4504.1346745
SEQUENCE:3
DTSTAMP:20260425T201823Z
URL:https://finechocolateindustryassociationfcia.growthzoneapp.com/events/Details/new-york-chocolate-week-2026-1583574?sourceTypeId=Hub
END:VEVENT
END:VCALENDAR
