BEGIN:VCALENDAR
VERSION:2.0
PRODID:-//ChamberMaster//Event Calendar 2.0//EN
METHOD:PUBLISH
X-PUBLISHED-TTL:P1H
REFRESH-INTERVAL:P1H
CALSCALE:GREGORIAN
BEGIN:VTIMEZONE
TZID:America/New_York
BEGIN:DAYLIGHT
RRULE:FREQ=YEARLY;BYMONTH=3;BYDAY=2SU
DTSTART:20070101T000000
TZOFFSETFROM:-0500
TZOFFSETTO:-0400
TZNAME:Eastern Daylight Time
END:DAYLIGHT
BEGIN:STANDARD
RRULE:FREQ=YEARLY;BYMONTH=11;BYDAY=1SU
DTSTART:20070101T000000
TZOFFSETFROM:-0400
TZOFFSETTO:-0500
TZNAME:Eastern Standard Time
END:STANDARD
END:VTIMEZONE
BEGIN:VEVENT
DTSTART;VALUE=DATE:20261003
DTEND;VALUE=DATE:20261005
TRANSP:TRANSPARENT
X-MICROSOFT-CDO-ALLDAYEVENT:TRUE
SUMMARY:Northwest Chocolate Festival
DESCRIPTION:Welcome to the best gathering of artisan chocolate makers in the world. Be prepared to delight your senses with milk chocolate\, dark chocolate\, inclusion bars\, drinking chocolate\, hot cocoa\, truffles\, bonbons\, confections\, and caramels\; all made with the finest ingredients. Get your taste buds ready for a weekend of pure bliss.FCIA members receive a 10% discount on your exhibit. Login to the FCIA website and go to the Discounts area to get the links to register as an exhibitor or for more information.
X-ALT-DESC;FMTTYPE=text/html:<!DOCTYPE html><html><head><title></title></head><body aria-disabled="false"><p>Welcome to the best gathering of artisan chocolate makers in the world. Be prepared to delight your senses with milk chocolate\, dark chocolate\, inclusion bars\, drinking chocolate\, hot cocoa\, truffles\, bonbons\, confections\, and caramels\; all made with the finest ingredients. Get your taste buds ready for a weekend of pure bliss.</p><p>FCIA members receive a 10% discount on your exhibit. Login to the <a fr-original-style="" href="https://www.finechocolateindustry.org/" style="user-select: auto\;"><strong fr-original-style="" style="font-weight: 700\;">FCIA website</strong></a> and go to the Discounts area to get the links to register as an exhibitor or for more information.&nbsp\;</p></body></html>
LOCATION:305 Harrison St Seattle WA 98109
UID:e.4504.1365206
SEQUENCE:3
DTSTAMP:20260425T201822Z
URL:https://finechocolateindustryassociationfcia.growthzoneapp.com/events/Details/northwest-chocolate-festival-1610809?sourceTypeId=Hub
END:VEVENT
END:VCALENDAR
