BEGIN:VCALENDAR
VERSION:2.0
PRODID:-//ChamberMaster//Event Calendar 2.0//EN
METHOD:PUBLISH
X-PUBLISHED-TTL:P1H
REFRESH-INTERVAL:P1H
CALSCALE:GREGORIAN
BEGIN:VTIMEZONE
TZID:America/New_York
BEGIN:DAYLIGHT
RRULE:FREQ=YEARLY;BYMONTH=3;BYDAY=2SU
DTSTART:20070101T000000
TZOFFSETFROM:-0500
TZOFFSETTO:-0400
TZNAME:Eastern Daylight Time
END:DAYLIGHT
BEGIN:STANDARD
RRULE:FREQ=YEARLY;BYMONTH=11;BYDAY=1SU
DTSTART:20070101T000000
TZOFFSETFROM:-0400
TZOFFSETTO:-0500
TZNAME:Eastern Standard Time
END:STANDARD
END:VTIMEZONE
BEGIN:VEVENT
DTSTART;VALUE=DATE:20260918
DTEND;VALUE=DATE:20260928
TRANSP:TRANSPARENT
X-MICROSOFT-CDO-ALLDAYEVENT:TRUE
SUMMARY:San Francisco Chocolate Week 2026
DESCRIPTION:Showcase your craft at San Francisco Chocolate Week 2026 (September 18–27)\, a city known for embracing artisan food culture and premium chocolate. FCIA Members can take advantage of 30% off Exhibitor Registration\, available on a first-come basis. SF audiences are loyal\, curious\, and eager to discover new makers\, making this a great opportunity to grow your customer base.\n\nLogin to the FCIA website and click on the Discounts page on the left-hand side of the Info Hub for details and to register.
X-ALT-DESC;FMTTYPE=text/html:Showcase your craft at San Francisco Chocolate Week 2026 (September 18–27)\, a city known for embracing artisan food culture and premium chocolate. FCIA Members can take advantage of 30% off Exhibitor Registration\, available on a first-come basis. SF audiences are loyal\, curious\, and eager to discover new makers\, making this a great opportunity to grow your customer base.\n\nLogin to the FCIA website and click on the Discounts page on the left-hand side of the Info Hub for details and to register.
LOCATION:San Francisco Bay Area CA
UID:e.4504.1346760
SEQUENCE:3
DTSTAMP:20260425T201823Z
URL:https://finechocolateindustryassociationfcia.growthzoneapp.com/events/Details/san-francisco-chocolate-week-2026-1583585?sourceTypeId=Hub
END:VEVENT
END:VCALENDAR
