BEGIN:VCALENDAR
VERSION:2.0
PRODID:-//ChamberMaster//Event Calendar 2.0//EN
METHOD:PUBLISH
X-PUBLISHED-TTL:P1H
REFRESH-INTERVAL:P1H
CALSCALE:GREGORIAN
BEGIN:VTIMEZONE
TZID:America/New_York
BEGIN:DAYLIGHT
RRULE:FREQ=YEARLY;BYMONTH=3;BYDAY=2SU
DTSTART:20070101T000000
TZOFFSETFROM:-0500
TZOFFSETTO:-0400
TZNAME:Eastern Daylight Time
END:DAYLIGHT
BEGIN:STANDARD
RRULE:FREQ=YEARLY;BYMONTH=11;BYDAY=1SU
DTSTART:20070101T000000
TZOFFSETFROM:-0400
TZOFFSETTO:-0500
TZNAME:Eastern Standard Time
END:STANDARD
END:VTIMEZONE
BEGIN:VEVENT
DTSTART;VALUE=DATE:20261106
DTEND;VALUE=DATE:20261117
TRANSP:TRANSPARENT
X-MICROSOFT-CDO-ALLDAYEVENT:TRUE
SUMMARY:Seattle Chocolate Week 2026
DESCRIPTION:Become part of Seattle Chocolate Week 2026 (April 17–26) and showcase your products to one of the most enthusiastic craft-food audiences in the Pacific Northwest. As an FCIA Member\, you receive 30% off Exhibitor Registration—first come\, first served. Seattle’s chocolate-loving community is known for discovery\, artisan appreciation\, and supporting innovative makers.\n\nFCIA Members who wish to participate as an exhibitor get 30% off Exhibitor Registration. Login to the FCIA website and click on the Discounts page on the left-hand side of the Info Hub for details and to register.
X-ALT-DESC;FMTTYPE=text/html:Become part of Seattle Chocolate Week 2026 (April 17–26) and showcase your products to one of the most enthusiastic craft-food audiences in the Pacific Northwest. As an FCIA Member\, you receive 30% off Exhibitor Registration—first come\, first served. Seattle’s chocolate-loving community is known for discovery\, artisan appreciation\, and supporting innovative makers.\n\nFCIA Members who wish to participate as an exhibitor get 30% off Exhibitor Registration. Login to the FCIA website and click on the Discounts page on the left-hand side of the Info Hub for details and to register.
LOCATION:Seattle WA
UID:e.4504.1346737
SEQUENCE:3
DTSTAMP:20260425T201824Z
URL:https://finechocolateindustryassociationfcia.growthzoneapp.com/events/Details/seattle-chocolate-week-2026-1583570?sourceTypeId=Hub
END:VEVENT
END:VCALENDAR
