BEGIN:VCALENDAR
VERSION:2.0
PRODID:-//ChamberMaster//Event Calendar 2.0//EN
METHOD:PUBLISH
X-PUBLISHED-TTL:P1H
REFRESH-INTERVAL:P1H
CALSCALE:GREGORIAN
BEGIN:VTIMEZONE
TZID:America/New_York
BEGIN:DAYLIGHT
RRULE:FREQ=YEARLY;BYMONTH=3;BYDAY=2SU
DTSTART:20070101T000000
TZOFFSETFROM:-0500
TZOFFSETTO:-0400
TZNAME:Eastern Daylight Time
END:DAYLIGHT
BEGIN:STANDARD
RRULE:FREQ=YEARLY;BYMONTH=11;BYDAY=1SU
DTSTART:20070101T000000
TZOFFSETFROM:-0400
TZOFFSETTO:-0500
TZNAME:Eastern Standard Time
END:STANDARD
END:VTIMEZONE
BEGIN:VEVENT
DTSTART;TZID=America/New_York:20260423T130000
DTEND;TZID=America/New_York:20260423T140000
X-MICROSOFT-CDO-ALLDAYEVENT:FALSE
SUMMARY:Selling Face-to-Face: Lessons from 100+ Festivals as Vendors & Organizers
DESCRIPTION:By John & Lindsay Hill\, Co-Founders of Pathway Vendors LLC In a world increasingly driven by online sales\, in-person events remain one of the most powerful ways for entrepreneurs to build loyal customers and grow their brands. Drawing on their experience selling at over 100 festivals across the country\, and now producing large-scale chocolate and coffee festivals ourselves\, this session shares practical insights from both sides of the table. They will explore what makes festivals successful for vendors\, how to choose the right events\, and the key strategies that help chocolate makers turn sampling and conversations into meaningful sales and long-term customer relationships. Attendees will leave with a clearer understanding of how to make in-person events and experiences a stronger part of their overall business strategy. (PLUS: We'll share a list of our favorite NON-chocolate/coffee events nationwide to sell at.)
X-ALT-DESC;FMTTYPE=text/html:<!DOCTYPE html><html><head><title></title></head><body aria-disabled="false"><p>By John &amp\; Lindsay Hill\, Co-Founders of Pathway Vendors LLC In a world increasingly driven by online sales\, in-person events remain one of the most powerful ways for entrepreneurs to build loyal customers and grow their brands.&nbsp\;</p><p>Drawing on their experience selling at over 100 festivals across the country\, and now producing large-scale chocolate and coffee festivals ourselves\, this session shares practical insights from both sides of the table. They will explore what makes festivals successful for vendors\, how to choose the right events\, and the key strategies that help chocolate makers turn sampling and conversations into meaningful sales and long-term customer relationships.&nbsp\;</p><p>Attendees will leave with a clearer understanding of how to make in-person events and experiences a stronger part of their overall business strategy. (PLUS: We&#39\;ll share a list of our favorite NON-chocolate/coffee events nationwide to sell at.)</p></body></html>
LOCATION:
UID:e.4504.1422714
SEQUENCE:3
DTSTAMP:20260425T201821Z
URL:https://finechocolateindustryassociationfcia.growthzoneapp.com/events/Details/selling-face-to-face-lessons-from-100-festivals-as-vendors-organizers-1682139?sourceTypeId=Hub
END:VEVENT
END:VCALENDAR
