BEGIN:VCALENDAR
VERSION:2.0
PRODID:-//ChamberMaster//Event Calendar 2.0//EN
METHOD:PUBLISH
X-PUBLISHED-TTL:P1H
REFRESH-INTERVAL:P1H
CALSCALE:GREGORIAN
BEGIN:VTIMEZONE
TZID:America/New_York
BEGIN:DAYLIGHT
RRULE:FREQ=YEARLY;BYMONTH=3;BYDAY=2SU
DTSTART:20070101T000000
TZOFFSETFROM:-0500
TZOFFSETTO:-0400
TZNAME:Eastern Daylight Time
END:DAYLIGHT
BEGIN:STANDARD
RRULE:FREQ=YEARLY;BYMONTH=11;BYDAY=1SU
DTSTART:20070101T000000
TZOFFSETFROM:-0400
TZOFFSETTO:-0500
TZNAME:Eastern Standard Time
END:STANDARD
END:VTIMEZONE
BEGIN:VEVENT
DTSTART;VALUE=DATE:20260908
DTEND;VALUE=DATE:20260910
TRANSP:TRANSPARENT
X-MICROSOFT-CDO-ALLDAYEVENT:TRUE
SUMMARY:Speciality & Fine Food Fair
DESCRIPTION:September 9–10\, 2025 | Olympia London\, UK\n\nJoin the UK’s leading showcase of artisanal food and drink at the Speciality & Fine Food Fair\, taking place September 9–10\, 2025\, at Olympia London. This two-day trade event brings together hundreds of innovative producers and thousands of buyers from retail\, hospitality\, foodservice\, wholesale and beyond for networking\, product discovery\, tastings\, and industry insight. Explore thousands of fine food and drink products from emerging and established brands\, experience curated tasting areas like The Village Square and Start-Up Village\, and gain practical knowledge from expert speakers. \n\nWhether sourcing new products\, building connections\, or learning about trends shaping the future of specialty foods\, this fair offers unparalleled access to the heart of the global artisan food community.
X-ALT-DESC;FMTTYPE=text/html:September 9–10\, 2025 | Olympia London\, UK\n\nJoin the UK’s leading showcase of artisanal food and drink at the Speciality & Fine Food Fair\, taking place September 9–10\, 2025\, at Olympia London. This two-day trade event brings together hundreds of innovative producers and thousands of buyers from retail\, hospitality\, foodservice\, wholesale and beyond for networking\, product discovery\, tastings\, and industry insight. Explore thousands of fine food and drink products from emerging and established brands\, experience curated tasting areas like The Village Square and Start-Up Village\, and gain practical knowledge from expert speakers. \n\nWhether sourcing new products\, building connections\, or learning about trends shaping the future of specialty foods\, this fair offers unparalleled access to the heart of the global artisan food community.
LOCATION:Hammersmith Road London London\, City of W14 8UX
UID:e.4504.1367602
SEQUENCE:3
DTSTAMP:20260425T201823Z
URL:https://finechocolateindustryassociationfcia.growthzoneapp.com/events/Details/speciality-fine-food-fair-1613673?sourceTypeId=Hub
END:VEVENT
END:VCALENDAR
