BEGIN:VCALENDAR
VERSION:2.0
PRODID:-//ChamberMaster//Event Calendar 2.0//EN
METHOD:PUBLISH
X-PUBLISHED-TTL:P1H
REFRESH-INTERVAL:P1H
CALSCALE:GREGORIAN
BEGIN:VTIMEZONE
TZID:America/New_York
BEGIN:DAYLIGHT
RRULE:FREQ=YEARLY;BYMONTH=3;BYDAY=2SU
DTSTART:20070101T000000
TZOFFSETFROM:-0500
TZOFFSETTO:-0400
TZNAME:Eastern Daylight Time
END:DAYLIGHT
BEGIN:STANDARD
RRULE:FREQ=YEARLY;BYMONTH=11;BYDAY=1SU
DTSTART:20070101T000000
TZOFFSETFROM:-0400
TZOFFSETTO:-0500
TZNAME:Eastern Standard Time
END:STANDARD
END:VTIMEZONE
BEGIN:VEVENT
DTSTART;VALUE=DATE:20260605
DTEND;VALUE=DATE:20260606
TRANSP:TRANSPARENT
X-MICROSOFT-CDO-ALLDAYEVENT:TRUE
SUMMARY:Toronto International Chocolate Salon 2026
DESCRIPTION:Be first to exhibit at Toronto Chocolate Salon's debut in June 2026\; a brand-new chocolate showcase bringing together makers\, artisans\, and passionate chocolate lovers in one of North America's top markets. FCIA members get an exclusive 10% exhibitor discount! Head to the Info Hub Discounts page to claim your advantage and secure your booth. To unlock your discount and secure your booth\, please log in to the FCIA website and visit the Discounts page in the Members Info Hub. Space is limited at this show\, so we encourage members to act quickly.
X-ALT-DESC;FMTTYPE=text/html:<!DOCTYPE html><html><head><title></title></head><body aria-disabled="false"><p>Be first to exhibit at Toronto Chocolate Salon&rsquo\;s debut in June 2026\; a brand-new chocolate showcase bringing together makers\, artisans\, and passionate chocolate lovers in one of North America&rsquo\;s top markets. FCIA members get an exclusive 10% exhibitor discount! Head to the Info Hub Discounts page to claim your advantage and secure your booth. To unlock your discount and secure your booth\, please log in to the FCIA website and visit the Discounts page in the Members Info Hub. Space is limited at this show\, so we encourage members to act quickly.</p></body></html>
LOCATION:Toronto ON
UID:e.4504.1346767
SEQUENCE:3
DTSTAMP:20260425T201822Z
URL:https://finechocolateindustryassociationfcia.growthzoneapp.com/events/Details/toronto-international-chocolate-salon-2026-1583592?sourceTypeId=Hub
END:VEVENT
END:VCALENDAR
